BEGIN:VCALENDAR
VERSION:2.0
PRODID:Events Booking
BEGIN:VEVENT
UID:69e4d0420193c
SUMMARY:BOSCOBEL CHAMBER MUSIC FESTIVAL
DESCRIPTION:
DTSTART:20250905T040000Z
DTEND:20250914T040000Z
DTSTAMP:20250515T005902Z
ORGANIZER;CN=Putnam County\, New York:MAILTO:pcwebinfo@putnamcountyny.gov
END:VEVENT
END:VCALENDAR