BEGIN:VCALENDAR
VERSION:2.0
PRODID:Events Booking
BEGIN:VEVENT
UID:69e4d28026e87
SUMMARY:Holiday in the Park at Mahopac Chamber Park
DESCRIPTION:
DTSTART:20241130T213000Z
DTEND:20241201T000000Z
DTSTAMP:20241114T220041Z
ORGANIZER;CN=Putnam County\, New York:MAILTO:pcwebinfo@putnamcountyny.gov
END:VEVENT
END:VCALENDAR