BEGIN:VCALENDAR
VERSION:2.0
PRODID:Events Booking
BEGIN:VEVENT
UID:69eae2b553e98
SUMMARY:Holiday on the Lake: Holiday Bazaars\, Outdoor Concert\, Food\, San
 ta Stroll\, Parade of Lights 
DESCRIPTION:
DTSTART:20251206T050000Z
DTEND:20251206T050000Z
DTSTAMP:20251009T225600Z
ORGANIZER;CN=Putnam County\, New York:MAILTO:pcwebinfo@putnamcountyny.gov
END:VEVENT
END:VCALENDAR