BEGIN:VCALENDAR
VERSION:2.0
PRODID:Events Booking
BEGIN:VEVENT
UID:69eae23360c88
SUMMARY:Holiday on the Lake/Our Christmas Village
DESCRIPTION:Holiday Festival\, Parade and Tree Lighting
DTSTART:20241207T190000Z
DTEND:20241125T013000Z
DTSTAMP:20241104T014733Z
ORGANIZER;CN=Putnam County\, New York:MAILTO:pcwebinfo@putnamcountyny.gov
END:VEVENT
END:VCALENDAR