BEGIN:VCALENDAR
VERSION:2.0
PRODID:Events Booking
BEGIN:VEVENT
UID:69e7a69e78897
SUMMARY:Holiday Twilight Tours at Boscobel                                
DESCRIPTION:
DTSTART:20251128T050000Z
DTEND:20251013T040000Z
DTSTAMP:20251009T214154Z
ORGANIZER;CN=Putnam County\, New York:MAILTO:pcwebinfo@putnamcountyny.gov
END:VEVENT
END:VCALENDAR