BEGIN:VCALENDAR
VERSION:2.0
PRODID:Events Booking
BEGIN:VEVENT
UID:69e63889df69a
SUMMARY:Hops on the Hudson NY Craft Beer Tasting and Market
DESCRIPTION:
DTSTART:20250621T150000Z
DTEND:20250621T220000Z
DTSTAMP:20250131T011113Z
ORGANIZER;CN=Putnam County\, New York:MAILTO:pcwebinfo@putnamcountyny.gov
END:VEVENT
END:VCALENDAR